BEGIN:VCALENDAR
VERSION:2.0
PRODID:-//lickingswcd.com//NONSGML kigkonsult.se iCalcreator 2.30.10//
CALSCALE:GREGORIAN
METHOD:PUBLISH
UID:4a80f73b-36d6-4fd2-8f86-92978a430e62
X-WR-CALDESC:Event Theme- Unusual Gardens in Your Own Backyard\nInformation
  and registration is available here: http://fourseasonsofgardening.org/
X-WR-RELCALID:98fea61b1d5a7d88fb50fd4758b76062
X-WR-TIMEZONE:America/New_York
BEGIN:VTIMEZONE
TZID:America/New_York
BEGIN:STANDARD
TZNAME:EST
DTSTART:20251102T020000
TZOFFSETFROM:-0400
TZOFFSETTO:-0500
RDATE:20261101T020000
END:STANDARD
BEGIN:DAYLIGHT
TZNAME:EDT
DTSTART:20260308T020000
TZOFFSETFROM:-0500
TZOFFSETTO:-0400
RDATE:20270314T020000
END:DAYLIGHT
END:VTIMEZONE
BEGIN:VEVENT
UID:5ea3d6cc-851b-45b7-aa11-1f3377430e60
DTSTAMP:20260419T163429Z
DESCRIPTION:Event Theme- Unusual Gardens in Your Own Backyard\nInformation 
 and registration is available here: http://fourseasonsofgardening.org/
DTSTART;TZID=America/New_York:20260314T090000
DTEND;TZID=America/New_York:20260314T153000
LOCATION:1209 University Dr\, Newark\, OH 43055 US
SUMMARY:Master Gardening Spring Conference
END:VEVENT
END:VCALENDAR
