BEGIN:VCALENDAR
VERSION:2.0
PRODID:-//lickingswcd.com//NONSGML kigkonsult.se iCalcreator 2.30.10//
CALSCALE:GREGORIAN
METHOD:PUBLISH
UID:8b2536c4-03ca-4337-9e20-9b17abb32737
X-WR-CALDESC:
X-WR-RELCALID:55bae7899027e2ea018dd1f2158b921c
X-WR-TIMEZONE:America/New_York
BEGIN:VTIMEZONE
TZID:America/New_York
BEGIN:STANDARD
TZNAME:EST
DTSTART:20251102T020000
TZOFFSETFROM:-0400
TZOFFSETTO:-0500
RDATE:20261101T020000
END:STANDARD
BEGIN:DAYLIGHT
TZNAME:EDT
DTSTART:20260308T020000
TZOFFSETFROM:-0500
TZOFFSETTO:-0400
RDATE:20270314T020000
END:DAYLIGHT
END:VTIMEZONE
BEGIN:VEVENT
UID:73578b3d-4647-4192-9707-e3bdd794771a
DTSTAMP:20260419T162817Z
DESCRIPTION:
DTSTART;TZID=America/New_York:20260317T060000
DTEND;TZID=America/New_York:20260317T060001
LOCATION:
SUMMARY:Licking Soil and Water Anniversary
END:VEVENT
END:VCALENDAR
