BEGIN:VCALENDAR
VERSION:2.0
PRODID:-//lickingswcd.com//NONSGML kigkonsult.se iCalcreator 2.30.10//
CALSCALE:GREGORIAN
METHOD:PUBLISH
UID:9a61207f-ecaa-4f94-a5a6-8a31f30941bd
X-WR-CALDESC:https://lickingswcd.com/shop/2026-fish-sale-order-now.html
X-WR-RELCALID:9a9c44e40ace2b36542c3a70186f4322
X-WR-TIMEZONE:America/New_York
BEGIN:VTIMEZONE
TZID:America/New_York
BEGIN:STANDARD
TZNAME:EST
DTSTART:20251102T020000
TZOFFSETFROM:-0400
TZOFFSETTO:-0500
RDATE:20261101T020000
END:STANDARD
BEGIN:DAYLIGHT
TZNAME:EDT
DTSTART:20260308T020000
TZOFFSETFROM:-0500
TZOFFSETTO:-0400
RDATE:20270314T020000
END:DAYLIGHT
END:VTIMEZONE
BEGIN:VEVENT
UID:ec43b406-51c0-43d5-8be8-ff9f6ab8bbe0
DTSTAMP:20260419T162734Z
DESCRIPTION:https://lickingswcd.com/shop/2026-fish-sale-order-now.html
DTSTART;TZID=America/New_York:20260324T060000
DTEND;TZID=America/New_York:20260324T060001
LOCATION:
SUMMARY:Fish Sale Opens
END:VEVENT
END:VCALENDAR
