BEGIN:VCALENDAR
VERSION:2.0
PRODID:-//lickingswcd.com//NONSGML kigkonsult.se iCalcreator 2.30.10//
CALSCALE:GREGORIAN
METHOD:PUBLISH
UID:cffd60d4-4b17-4719-9fe5-913934eb9ce6
X-WR-CALDESC:Thank you for your interest! This event has reached capacity a
 nd registration is now closed.
X-WR-RELCALID:8cf710392d0549e5a90a006784f3dc72
X-WR-TIMEZONE:America/New_York
BEGIN:VTIMEZONE
TZID:America/New_York
BEGIN:STANDARD
TZNAME:EST
DTSTART:20251102T020000
TZOFFSETFROM:-0400
TZOFFSETTO:-0500
RDATE:20261101T020000
END:STANDARD
BEGIN:DAYLIGHT
TZNAME:EDT
DTSTART:20260308T020000
TZOFFSETFROM:-0500
TZOFFSETTO:-0400
RDATE:20270314T020000
END:DAYLIGHT
END:VTIMEZONE
BEGIN:VEVENT
UID:510d5966-2950-4ad2-8c5d-355ffe8967d2
DTSTAMP:20260419T163149Z
DESCRIPTION:Thank you for your interest! This event has reached capacity an
 d registration is now closed.
DTSTART;TZID=America/New_York:20260327T060000
DTEND;TZID=America/New_York:20260327T060001
LOCATION:771 E Main St\, Newark\, OH 43055 US
SUMMARY:Local Work Group
END:VEVENT
END:VCALENDAR
