BEGIN:VCALENDAR
VERSION:2.0
PRODID:-//lickingswcd.com//NONSGML kigkonsult.se iCalcreator 2.30.10//
CALSCALE:GREGORIAN
METHOD:PUBLISH
UID:7a2cda7e-0241-401b-8a0e-b426f5b67877
X-WR-CALDESC:
X-WR-RELCALID:fc1beae4de5ef9b166ef8ce50cc3e3c9
X-WR-TIMEZONE:America/New_York
BEGIN:VTIMEZONE
TZID:America/New_York
BEGIN:STANDARD
TZNAME:EST
DTSTART:20251102T020000
TZOFFSETFROM:-0400
TZOFFSETTO:-0500
RDATE:20261101T020000
END:STANDARD
BEGIN:DAYLIGHT
TZNAME:EDT
DTSTART:20260308T020000
TZOFFSETFROM:-0500
TZOFFSETTO:-0400
RDATE:20270314T020000
END:DAYLIGHT
END:VTIMEZONE
BEGIN:VEVENT
UID:cc7c6738-6d70-4e0a-ad71-e1226c03a687
DTSTAMP:20260419T150150Z
DESCRIPTION:
DTSTART;TZID=America/New_York:20260416T090000
DTEND;TZID=America/New_York:20260416T120000
LOCATION:771 E Main St\, Newark\, OH 43055 US
SUMMARY:Tree Store Open
END:VEVENT
END:VCALENDAR
