BEGIN:VCALENDAR
VERSION:2.0
PRODID:-//lickingswcd.com//NONSGML kigkonsult.se iCalcreator 2.30.10//
CALSCALE:GREGORIAN
METHOD:PUBLISH
UID:173b64a9-a5af-4bcd-ba50-6675318fb38c
X-WR-CALDESC:
X-WR-RELCALID:942cca13edca18e53c30f25621f1adf7
X-WR-TIMEZONE:America/New_York
BEGIN:VTIMEZONE
TZID:America/New_York
BEGIN:STANDARD
TZNAME:EST
DTSTART:20251102T020000
TZOFFSETFROM:-0400
TZOFFSETTO:-0500
RDATE:20261101T020000
END:STANDARD
BEGIN:DAYLIGHT
TZNAME:EDT
DTSTART:20260308T020000
TZOFFSETFROM:-0500
TZOFFSETTO:-0400
RDATE:20270314T020000
END:DAYLIGHT
END:VTIMEZONE
BEGIN:VEVENT
UID:81f1c7ce-00b0-4b53-a47c-f8dd29fe3bb1
DTSTAMP:20260419T144328Z
DESCRIPTION:
DTSTART;TZID=America/New_York:20260417T090000
DTEND;TZID=America/New_York:20260417T150000
LOCATION:771 E Main St\, Newark\, OH 43055 US
SUMMARY:Tree Store Open
END:VEVENT
END:VCALENDAR
