BEGIN:VCALENDAR
VERSION:2.0
PRODID:-//lickingswcd.com//NONSGML kigkonsult.se iCalcreator 2.30.10//
CALSCALE:GREGORIAN
METHOD:PUBLISH
UID:6f37a1f3-a6ba-4e30-b38c-fb5c440532b8
X-WR-CALDESC:Register here: https://www.signupgenius.com/go/10C0549AAA92DA3
 FDC61-62492517-2026
X-WR-RELCALID:ee3c6c59320b063fa5a2b79599789a77
X-WR-TIMEZONE:America/New_York
BEGIN:VTIMEZONE
TZID:America/New_York
BEGIN:STANDARD
TZNAME:EST
DTSTART:20251102T020000
TZOFFSETFROM:-0400
TZOFFSETTO:-0500
RDATE:20261101T020000
END:STANDARD
BEGIN:DAYLIGHT
TZNAME:EDT
DTSTART:20260308T020000
TZOFFSETFROM:-0500
TZOFFSETTO:-0400
RDATE:20270314T020000
END:DAYLIGHT
END:VTIMEZONE
BEGIN:VEVENT
UID:d781af24-86ff-4d1c-a0a6-f20a050c992a
DTSTAMP:20260419T145026Z
DESCRIPTION:Register here: https://www.signupgenius.com/go/10C0549AAA92DA3F
 DC61-62492517-2026
DTSTART;TZID=America/New_York:20260420T170000
DTEND;TZID=America/New_York:20260420T190000
LOCATION:10255 McIntosh Road\, Pataskala\, OH 43062 US
SUMMARY:Licking SWCD Pond Clinic
END:VEVENT
END:VCALENDAR
