BEGIN:VCALENDAR
VERSION:2.0
PRODID:-//lickingswcd.com//NONSGML kigkonsult.se iCalcreator 2.30.10//
CALSCALE:GREGORIAN
METHOD:PUBLISH
UID:e09faeb2-e8b7-4ec1-837e-518e32ea2f08
X-WR-CALDESC:https://lickingswcd.com/shop/2026-fish-sale-order-now.html
X-WR-RELCALID:cbc4239b0bf8ca78b53f6439c175f892
X-WR-TIMEZONE:America/New_York
BEGIN:VTIMEZONE
TZID:America/New_York
BEGIN:STANDARD
TZNAME:EST
DTSTART:20251102T020000
TZOFFSETFROM:-0400
TZOFFSETTO:-0500
RDATE:20261101T020000
END:STANDARD
BEGIN:DAYLIGHT
TZNAME:EDT
DTSTART:20260308T020000
TZOFFSETFROM:-0500
TZOFFSETTO:-0400
RDATE:20270314T020000
END:DAYLIGHT
END:VTIMEZONE
BEGIN:VEVENT
UID:39d628e8-2336-435d-a608-4ed218ec82c7
DTSTAMP:20260419T150925Z
DESCRIPTION:https://lickingswcd.com/shop/2026-fish-sale-order-now.html
DTSTART;TZID=America/New_York:20260424T060000
DTEND;TZID=America/New_York:20260424T060001
LOCATION:
SUMMARY:Fish Sale Order Deadline
END:VEVENT
END:VCALENDAR
