BEGIN:VCALENDAR
VERSION:2.0
PRODID:-//lickingswcd.com//NONSGML kigkonsult.se iCalcreator 2.30.10//
CALSCALE:GREGORIAN
METHOD:PUBLISH
UID:291ac18e-9451-49f1-ab24-d119569609be
X-WR-CALDESC:
X-WR-RELCALID:cb269e93e209bef77fc24b54916411cc
X-WR-TIMEZONE:America/New_York
BEGIN:VTIMEZONE
TZID:America/New_York
BEGIN:STANDARD
TZNAME:EST
DTSTART:20251102T020000
TZOFFSETFROM:-0400
TZOFFSETTO:-0500
RDATE:20261101T020000
END:STANDARD
BEGIN:DAYLIGHT
TZNAME:EDT
DTSTART:20260308T020000
TZOFFSETFROM:-0500
TZOFFSETTO:-0400
RDATE:20270314T020000
END:DAYLIGHT
END:VTIMEZONE
BEGIN:VEVENT
UID:e24ab56d-c4b5-4a36-9db2-4760b7731096
DTSTAMP:20260419T144404Z
DESCRIPTION:
DTSTART;TZID=America/New_York:20260425T090000
DTEND;TZID=America/New_York:20260425T150000
LOCATION:7770 Jacksontown RD\, Newark\, OH 43055 US
SUMMARY:@ Dawes Arbor Day
END:VEVENT
END:VCALENDAR
