BEGIN:VCALENDAR
VERSION:2.0
PRODID:-//lickingswcd.com//NONSGML kigkonsult.se iCalcreator 2.30.10//
CALSCALE:GREGORIAN
METHOD:PUBLISH
UID:a2442fa3-5193-4315-8077-09528e9f6667
X-WR-CALDESC:
X-WR-RELCALID:0e53a363b6e55de00763e3b4427ca363
X-WR-TIMEZONE:America/New_York
BEGIN:VTIMEZONE
TZID:America/New_York
BEGIN:STANDARD
TZNAME:EST
DTSTART:20251102T020000
TZOFFSETFROM:-0400
TZOFFSETTO:-0500
RDATE:20261101T020000
END:STANDARD
BEGIN:DAYLIGHT
TZNAME:EDT
DTSTART:20260308T020000
TZOFFSETFROM:-0500
TZOFFSETTO:-0400
RDATE:20270314T020000
END:DAYLIGHT
END:VTIMEZONE
BEGIN:VEVENT
UID:52180476-9f77-4633-9dee-503b788931f9
DTSTAMP:20260419T144328Z
DESCRIPTION:
DTSTART;TZID=America/New_York:20260425T060000
DTEND;TZID=America/New_York:20260425T060001
LOCATION:
SUMMARY:Arbor Day
END:VEVENT
END:VCALENDAR
