BEGIN:VCALENDAR
VERSION:2.0
PRODID:-//lickingswcd.com//NONSGML kigkonsult.se iCalcreator 2.30.10//
CALSCALE:GREGORIAN
METHOD:PUBLISH
UID:c6a18ae8-c0fd-487c-b9e6-53da492cfdd3
X-WR-CALDESC:
X-WR-RELCALID:58e1f97f02d30c24aefd2c857f50692a
X-WR-TIMEZONE:America/New_York
BEGIN:VTIMEZONE
TZID:America/New_York
BEGIN:STANDARD
TZNAME:EST
DTSTART:20251102T020000
TZOFFSETFROM:-0400
TZOFFSETTO:-0500
RDATE:20261101T020000
END:STANDARD
BEGIN:DAYLIGHT
TZNAME:EDT
DTSTART:20260308T020000
TZOFFSETFROM:-0500
TZOFFSETTO:-0400
RDATE:20270314T020000
END:DAYLIGHT
END:VTIMEZONE
BEGIN:VEVENT
UID:cfee770e-8d60-46b9-af24-6fa41e0b9d75
DTSTAMP:20260419T163953Z
DESCRIPTION:
DTSTART;TZID=America/New_York:20260506T060000
DTEND;TZID=America/New_York:20260506T060001
LOCATION:771 E Main St\, Newark\, OH 43055 US
SUMMARY:Fish Sale Pickup
END:VEVENT
END:VCALENDAR
