BEGIN:VCALENDAR
VERSION:2.0
PRODID:-//lickingswcd.com//NONSGML kigkonsult.se iCalcreator 2.30.10//
CALSCALE:GREGORIAN
METHOD:PUBLISH
UID:5a86c4b9-9c5c-4f04-a3a8-dd17157680f1
X-WR-CALDESC:https://campcanopy.com/
X-WR-RELCALID:420d986851cf1d3a49d037cc9ea40bc7
X-WR-TIMEZONE:America/New_York
BEGIN:VTIMEZONE
TZID:America/New_York
BEGIN:STANDARD
TZNAME:EST
DTSTART:20251102T020000
TZOFFSETFROM:-0400
TZOFFSETTO:-0500
RDATE:20261101T020000
RDATE:20271107T020000
END:STANDARD
BEGIN:DAYLIGHT
TZNAME:EDT
DTSTART:20260308T020000
TZOFFSETFROM:-0500
TZOFFSETTO:-0400
RDATE:20270314T020000
END:DAYLIGHT
END:VTIMEZONE
BEGIN:VEVENT
UID:c9223c07-7a2b-4a1d-983a-cdd3c2c3b393
DTSTAMP:20260419T163528Z
DESCRIPTION:https://campcanopy.com/
DTSTART;TZID=America/New_York:20260508T060000
DTEND;TZID=America/New_York:20260508T060001
LOCATION:
SUMMARY:Camp Canopy Scholarship Application Deadline
END:VEVENT
END:VCALENDAR
