BEGIN:VCALENDAR
VERSION:2.0
PRODID:-//lickingswcd.com//NONSGML kigkonsult.se iCalcreator 2.30.10//
CALSCALE:GREGORIAN
METHOD:PUBLISH
UID:c9979438-9465-47d4-9eb0-1c52b84a39b8
X-WR-CALDESC:
X-WR-RELCALID:6c99fb83596ef1fbc865a7624144f897
X-WR-TIMEZONE:America/New_York
BEGIN:VTIMEZONE
TZID:America/New_York
BEGIN:STANDARD
TZNAME:EST
DTSTART:20251102T020000
TZOFFSETFROM:-0400
TZOFFSETTO:-0500
RDATE:20261101T020000
RDATE:20271107T020000
END:STANDARD
BEGIN:DAYLIGHT
TZNAME:EDT
DTSTART:20260308T020000
TZOFFSETFROM:-0500
TZOFFSETTO:-0400
RDATE:20270314T020000
END:DAYLIGHT
END:VTIMEZONE
BEGIN:VEVENT
UID:6663c7ea-ec64-4b2c-a128-6bb8bc827524
DTSTAMP:20260419T162817Z
DESCRIPTION:
DTSTART;TZID=America/New_York:20260509T083000
DTEND;TZID=America/New_York:20260509T130000
LOCATION:771 East Main Street\, Suite 100\, Newark\, OH 43055 US
SUMMARY:Backyard Conservation Day
END:VEVENT
END:VCALENDAR
