BEGIN:VCALENDAR
VERSION:2.0
PRODID:-//lickingswcd.com//NONSGML kigkonsult.se iCalcreator 2.30.10//
CALSCALE:GREGORIAN
METHOD:PUBLISH
UID:c826ca35-a861-44b6-92c3-58db51a69245
X-WR-CALDESC:
X-WR-RELCALID:60f8eda5c9a20485a25dac3c990d4561
X-WR-TIMEZONE:America/New_York
BEGIN:VTIMEZONE
TZID:America/New_York
BEGIN:STANDARD
TZNAME:EST
DTSTART:20251102T020000
TZOFFSETFROM:-0400
TZOFFSETTO:-0500
RDATE:20261101T020000
RDATE:20271107T020000
END:STANDARD
BEGIN:DAYLIGHT
TZNAME:EDT
DTSTART:20260308T020000
TZOFFSETFROM:-0500
TZOFFSETTO:-0400
RDATE:20270314T020000
END:DAYLIGHT
END:VTIMEZONE
BEGIN:VEVENT
UID:06804df3-124c-4779-8626-68666e33aed1
DTSTAMP:20260419T163837Z
DESCRIPTION:
DTSTART;TZID=America/New_York:20260516T060000
DTEND;TZID=America/New_York:20260516T060001
LOCATION:
SUMMARY:National River Clean Up Day
END:VEVENT
END:VCALENDAR
