BEGIN:VCALENDAR
VERSION:2.0
PRODID:-//lickingswcd.com//NONSGML kigkonsult.se iCalcreator 2.30.10//
CALSCALE:GREGORIAN
METHOD:PUBLISH
UID:70d1237a-91ee-4dde-ad82-50ea101f9084
X-WR-CALDESC:
X-WR-RELCALID:f775fde0bd3ad091a396f38f133083a4
X-WR-TIMEZONE:America/New_York
BEGIN:VTIMEZONE
TZID:America/New_York
BEGIN:STANDARD
TZNAME:EST
DTSTART:20261101T020000
TZOFFSETFROM:-0400
TZOFFSETTO:-0500
RDATE:20271107T020000
RDATE:20281105T020000
END:STANDARD
BEGIN:DAYLIGHT
TZNAME:EDT
DTSTART:20270314T020000
TZOFFSETFROM:-0500
TZOFFSETTO:-0400
RDATE:20280312T020000
RDATE:20290311T020000
END:DAYLIGHT
END:VTIMEZONE
BEGIN:VEVENT
UID:4f729117-ca21-4077-9c08-6264de31ec4a
DTSTAMP:20260422T223734Z
DESCRIPTION:
DTSTART;TZID=America/New_York:20271012T160000
DTEND;TZID=America/New_York:20271012T180000
LOCATION:771 East Main Street\, Suite 100\, Newark\, AL 43055 US
SUMMARY:LCSWCD Monthly Board Meeting
END:VEVENT
END:VCALENDAR
