BEGIN:VCALENDAR
VERSION:2.0
PRODID:-//lickingswcd.com//NONSGML kigkonsult.se iCalcreator 2.30.10//
CALSCALE:GREGORIAN
METHOD:PUBLISH
UID:8908ecaf-ea22-4145-aee7-0f8c282bb62f
X-WR-CALDESC:
X-WR-RELCALID:92f4e0577985273b27a8f206a96c4c46
X-WR-TIMEZONE:America/New_York
BEGIN:VTIMEZONE
TZID:America/New_York
BEGIN:STANDARD
TZNAME:EST
DTSTART:20271107T020000
TZOFFSETFROM:-0400
TZOFFSETTO:-0500
RDATE:20281105T020000
END:STANDARD
BEGIN:DAYLIGHT
TZNAME:EDT
DTSTART:20270314T020000
TZOFFSETFROM:-0500
TZOFFSETTO:-0400
RDATE:20280312T020000
RDATE:20290311T020000
END:DAYLIGHT
END:VTIMEZONE
BEGIN:VEVENT
UID:1c8796b5-92de-4d96-95a6-da2a737dc40e
DTSTAMP:20260423T003106Z
DESCRIPTION:
DTSTART;TZID=America/New_York:20271109T160000
DTEND;TZID=America/New_York:20271109T180000
LOCATION:771 East Main Street\, Suite 100\, Newark\, AL 43055 US
SUMMARY:LCSWCD Monthly Board Meeting
END:VEVENT
END:VCALENDAR
