BEGIN:VCALENDAR
VERSION:2.0
PRODID:-//lickingswcd.com//NONSGML kigkonsult.se iCalcreator 2.30.10//
CALSCALE:GREGORIAN
METHOD:PUBLISH
UID:5d8874a4-7ce8-488b-90ee-2ffa934590ea
X-WR-CALDESC:Global Recycling Day was created in 2018 to help recognise\, a
 nd celebrate\, the importance recycling plays in preserving our precious p
 rimary resources and securing the future of our planet. It is a day for th
 e world to come together and put the planet first.\n\nThe mission of Globa
 l Recycling Day\, as set out by the Global Recycling Foundation\, is twofo
 ld:\n\n1. To tell world leaders that recycling is simply too important not
  to be a global issue\, and that a common\, joined up approach to recyclin
 g is urgently needed.\n\n2. To ask people across the planet to think resou
 rce\, not waste\, when it comes to the goods around us – until this happen
 s\, we simply won’t award recycled goods the true value and repurpose they
  deserve.
X-WR-RELCALID:5dffa72fe8bf54cc60c950771fe483c0
X-WR-TIMEZONE:America/New_York
BEGIN:VTIMEZONE
TZID:America/New_York
BEGIN:STANDARD
TZNAME:EST
DTSTART:20271107T020000
TZOFFSETFROM:-0400
TZOFFSETTO:-0500
RDATE:20281105T020000
END:STANDARD
BEGIN:DAYLIGHT
TZNAME:EDT
DTSTART:20280312T020000
TZOFFSETFROM:-0500
TZOFFSETTO:-0400
RDATE:20290311T020000
END:DAYLIGHT
END:VTIMEZONE
BEGIN:VEVENT
UID:db5d154b-94da-4c4b-8fe2-c0a80fc4a477
DTSTAMP:20260423T065612Z
DESCRIPTION:Global Recycling Day was created in 2018 to help recognise\, an
 d celebrate\, the importance recycling plays in preserving our precious pr
 imary resources and securing the future of our planet. It is a day for the
  world to come together and put the planet first.\n\nThe mission of Global
  Recycling Day\, as set out by the Global Recycling Foundation\, is twofol
 d:\n\n1. To tell world leaders that recycling is simply too important not 
 to be a global issue\, and that a common\, joined up approach to recycling
  is urgently needed.\n\n2. To ask people across the planet to think resour
 ce\, not waste\, when it comes to the goods around us – until this happens
 \, we simply won’t award recycled goods the true value and repurpose they 
 deserve.
DTSTART;TZID=America/New_York:20280318T000000
DTEND;TZID=America/New_York:20280318T235900
LOCATION:
SUMMARY:Global Recycling Day
END:VEVENT
END:VCALENDAR
