BEGIN:VCALENDAR
VERSION:2.0
PRODID:-//lickingswcd.com//NONSGML kigkonsult.se iCalcreator 2.30.10//
CALSCALE:GREGORIAN
METHOD:PUBLISH
UID:260901e9-663d-42f9-b9bd-fe3a99af7afb
X-WR-CALDESC:Learn about simple things you can do to create a great looking
  property that’s healthier for you\, your family\, your pets\, and the env
 ironment-and that saves you time and money. \n\nWe’re partnering with the 
 Licking Park District on the LANDSCAPE FOR LIFE™ series\, Tuesdays\, March
  28 thru April 25.  Click on the link below for more information and to re
 gister for the workshops.
X-WR-RELCALID:2bec447b8b09477e9c388e03972b3da9
X-WR-TIMEZONE:America/New_York
BEGIN:VTIMEZONE
TZID:America/New_York
BEGIN:STANDARD
TZNAME:EST
DTSTART:20161106T020000
TZOFFSETFROM:-0400
TZOFFSETTO:-0500
RDATE:20171105T020000
END:STANDARD
BEGIN:DAYLIGHT
TZNAME:EDT
DTSTART:20170312T020000
TZOFFSETFROM:-0500
TZOFFSETTO:-0400
RDATE:20180311T020000
END:DAYLIGHT
END:VTIMEZONE
BEGIN:VEVENT
UID:b2e8563a-2fdc-4b7b-9bdd-c1ad00b518a0
DTSTAMP:20260421T225924Z
DESCRIPTION:Learn about simple things you can do to create a great looking 
 property that’s healthier for you\, your family\, your pets\, and the envi
 ronment-and that saves you time and money. \n\nWe’re partnering with the L
 icking Park District on the LANDSCAPE FOR LIFE™ series\, Tuesdays\, March 
 28 thru April 25.  Click on the link below for more information and to reg
 ister for the workshops.
DTSTART;TZID=America/New_York:20170328T180000
DTEND;TZID=America/New_York:20170328T193000
LOCATION:Licking Park District
SUMMARY:Landscape for Life Series
END:VEVENT
END:VCALENDAR
