BEGIN:VCALENDAR
VERSION:2.0
PRODID:-//lickingswcd.com//NONSGML kigkonsult.se iCalcreator 2.30.10//
CALSCALE:GREGORIAN
METHOD:PUBLISH
UID:0be9a03b-319f-4fc9-a70a-bcae61c96bb6
X-WR-CALDESC:Stop by our table at the Southeast Ohio Pheasants Forever Yout
 h Day\, Saturday\, April 8\, at the Johnstown Community Sportsman's Club\,
  7357 Sportsman Club Rd NW\, Johnstown\, OH 43031.
X-WR-RELCALID:c3d2cf9d07ad86a78cb2df9364d23074
X-WR-TIMEZONE:America/New_York
BEGIN:VTIMEZONE
TZID:America/New_York
BEGIN:STANDARD
TZNAME:EST
DTSTART:20161106T020000
TZOFFSETFROM:-0400
TZOFFSETTO:-0500
RDATE:20171105T020000
END:STANDARD
BEGIN:DAYLIGHT
TZNAME:EDT
DTSTART:20170312T020000
TZOFFSETFROM:-0500
TZOFFSETTO:-0400
RDATE:20180311T020000
END:DAYLIGHT
END:VTIMEZONE
BEGIN:VEVENT
UID:25a5bf10-e37a-427d-a2a9-f35e39e512ee
DTSTAMP:20260421T193827Z
DESCRIPTION:Stop by our table at the Southeast Ohio Pheasants Forever Youth
  Day\, Saturday\, April 8\, at the Johnstown Community Sportsman's Club\, 
 7357 Sportsman Club Rd NW\, Johnstown\, OH 43031.
DTSTART;TZID=America/New_York:20170408T090000
DTEND;TZID=America/New_York:20170408T150000
LOCATION:Johnstown Community Sportsman's Club
SUMMARY:LCSWCD @ SE Ohio Pheasants Forever Youth Day
END:VEVENT
END:VCALENDAR
