BEGIN:VCALENDAR
VERSION:2.0
PRODID:-//lickingswcd.com//NONSGML kigkonsult.se iCalcreator 2.30.10//
CALSCALE:GREGORIAN
METHOD:PUBLISH
UID:8c4128eb-06e7-496c-9f78-e871ef693918
X-WR-CALDESC:OEFFA’s Heart of Ohio Chapter will hold its regular educationa
 l meeting at 7:00 p.m.\, Monday\, April 17\, 2017 at the Alexandria Public
  Library\, 10 Maple Drive\, Alexandria\, Ohio 43001. \n\nFor more informat
 ion\, contact Chuck Dilbone at cgdilbone@gmail.com.
X-WR-RELCALID:768d02c2843aed1b6f148419d69666e2
X-WR-TIMEZONE:America/New_York
BEGIN:VTIMEZONE
TZID:America/New_York
BEGIN:STANDARD
TZNAME:EST
DTSTART:20161106T020000
TZOFFSETFROM:-0400
TZOFFSETTO:-0500
RDATE:20171105T020000
END:STANDARD
BEGIN:DAYLIGHT
TZNAME:EDT
DTSTART:20170312T020000
TZOFFSETFROM:-0500
TZOFFSETTO:-0400
RDATE:20180311T020000
END:DAYLIGHT
END:VTIMEZONE
BEGIN:VEVENT
UID:c6b72a2d-aafc-422b-8475-744e5708bb63
DTSTAMP:20260421T194058Z
DESCRIPTION:OEFFA’s Heart of Ohio Chapter will hold its regular educational
  meeting at 7:00 p.m.\, Monday\, April 17\, 2017 at the Alexandria Public 
 Library\, 10 Maple Drive\, Alexandria\, Ohio 43001. \n\nFor more informati
 on\, contact Chuck Dilbone at cgdilbone@gmail.com.
DTSTART;TZID=America/New_York:20170417T190000
DTEND;TZID=America/New_York:20170417T210000
LOCATION:Alexandria Public Library\, 10 Maple Drive\, Alexandria\, Ohio 430
 01
SUMMARY:OEFFA Heart of Ohio Chapter Meeting
END:VEVENT
END:VCALENDAR
