BEGIN:VCALENDAR
VERSION:2.0
PRODID:-//lickingswcd.com//NONSGML kigkonsult.se iCalcreator 2.30.10//
CALSCALE:GREGORIAN
METHOD:PUBLISH
UID:fb407691-6895-42b8-8fe3-90671fabbd65
X-WR-CALDESC:The Tri-County Envirothon will be held Tuesday\, April 18\, 20
 17\, at the Perry Co. Gun Club:  4957 Township Road 149 NE\, New Lexington
 \, OH 43764.\n\nEnvirothons challenge high school students' knowledge of s
 oils\, forestry\, wildlife\, aquatic ecology and current environmental iss
 ues\, while also encouraging cooperative decision making and team building
 .  The 2017 Current Environmental Issue is Agricultural Soil and Water Con
 servation Stewardship.\n\nTri-County Envirothon is a practice event for th
 e Area 3 Envirothon and is a great opportunity for new teams to get a feel
  for the Envirothon program.   The 16-county\, Area 3 Envirothon will be h
 eld Tuesday\, April 25\, 2017.\n\nOhio has one of the biggest and best Env
 irothon programs in North America.\n\nOhio Envirothon is June 11-13\, 2017
 .\n\nThe winning team of the Ohio competition is eligible to participate i
 n the North American Envirothon\, July 23-29\, More information about the 
 national Envirothon is available here: http://www.envirothon.org/.  \n\nVo
 lunteers are needed to help with Tri-County and Area 3 Envirothons.   For 
 more information or to volunteer\, contact Chodd Armfelt at Licking Soil &
  Water\, 740-670-5330.
X-WR-RELCALID:f1c8733727679d74da2ca3f208d6ae08
X-WR-TIMEZONE:America/New_York
BEGIN:VTIMEZONE
TZID:America/New_York
BEGIN:STANDARD
TZNAME:EST
DTSTART:20161106T020000
TZOFFSETFROM:-0400
TZOFFSETTO:-0500
RDATE:20171105T020000
END:STANDARD
BEGIN:DAYLIGHT
TZNAME:EDT
DTSTART:20170312T020000
TZOFFSETFROM:-0500
TZOFFSETTO:-0400
RDATE:20180311T020000
END:DAYLIGHT
END:VTIMEZONE
BEGIN:VEVENT
UID:3bf564d1-e8e3-4d24-bd80-5278401aa869
DTSTAMP:20260421T192836Z
DESCRIPTION:The Tri-County Envirothon will be held Tuesday\, April 18\, 201
 7\, at the Perry Co. Gun Club:  4957 Township Road 149 NE\, New Lexington\
 , OH 43764.\n\nEnvirothons challenge high school students' knowledge of so
 ils\, forestry\, wildlife\, aquatic ecology and current environmental issu
 es\, while also encouraging cooperative decision making and team building.
   The 2017 Current Environmental Issue is Agricultural Soil and Water Cons
 ervation Stewardship.\n\nTri-County Envirothon is a practice event for the
  Area 3 Envirothon and is a great opportunity for new teams to get a feel 
 for the Envirothon program.   The 16-county\, Area 3 Envirothon will be he
 ld Tuesday\, April 25\, 2017.\n\nOhio has one of the biggest and best Envi
 rothon programs in North America.\n\nOhio Envirothon is June 11-13\, 2017.
 \n\nThe winning team of the Ohio competition is eligible to participate in
  the North American Envirothon\, July 23-29\, More information about the n
 ational Envirothon is available here: http://www.envirothon.org/.  \n\nVol
 unteers are needed to help with Tri-County and Area 3 Envirothons.   For m
 ore information or to volunteer\, contact Chodd Armfelt at Licking Soil & 
 Water\, 740-670-5330.
DTSTART;TZID=America/New_York:20170418T080000
DTEND;TZID=America/New_York:20170418T140000
LOCATION:Perry Co. Gun Club:  4957 Township Road 149 NE\, New Lexington\, O
 H 43764
SUMMARY:Tri-County Envirothon
END:VEVENT
END:VCALENDAR
