BEGIN:VCALENDAR
VERSION:2.0
PRODID:-//lickingswcd.com//NONSGML kigkonsult.se iCalcreator 2.30.10//
CALSCALE:GREGORIAN
METHOD:PUBLISH
UID:8444cf41-bc99-40cb-9798-6ebbb0a682b0
X-WR-CALDESC:The Area 3 Envirothon will be held Wednesday\, April 26\, 2017
 .  This event qualifies teams from a 16-county area for the state competit
 ion.  It is only available to high school teams.  Area 3 Envirothon will t
 ake place at Jefferson Sportsman Club\, 111 Lena Ln\, Bloomingdale\, OH 43
 910.  \n\nVolunteers are needed to help with this event\, contact Licking 
 Soil & Water\, 740-670-5330.\n\nEnvirothon competitions challenge high sch
 ool students' knowledge of soils\, forestry\, wildlife\, aquatic ecology a
 nd current environmental issues\, while also encouraging cooperative decis
 ion-making and team building.\n\nLearn more about Ohio Envirothon here: ht
 tp://ofswcd.org/?page_id=240\n\nMore information about the Envirothon prog
 ram is available at http://www.envirothon.org/.
X-WR-RELCALID:6e70fb418b1b935a6ede429eede137c3
X-WR-TIMEZONE:America/New_York
BEGIN:VTIMEZONE
TZID:America/New_York
BEGIN:STANDARD
TZNAME:EST
DTSTART:20161106T020000
TZOFFSETFROM:-0400
TZOFFSETTO:-0500
RDATE:20171105T020000
END:STANDARD
BEGIN:DAYLIGHT
TZNAME:EDT
DTSTART:20170312T020000
TZOFFSETFROM:-0500
TZOFFSETTO:-0400
RDATE:20180311T020000
END:DAYLIGHT
END:VTIMEZONE
BEGIN:VEVENT
UID:1463e314-7c6d-4b31-9df2-9163fec52624
DTSTAMP:20260421T212120Z
DESCRIPTION:The Area 3 Envirothon will be held Wednesday\, April 26\, 2017.
   This event qualifies teams from a 16-county area for the state competiti
 on.  It is only available to high school teams.  Area 3 Envirothon will ta
 ke place at Jefferson Sportsman Club\, 111 Lena Ln\, Bloomingdale\, OH 439
 10.  \n\nVolunteers are needed to help with this event\, contact Licking S
 oil & Water\, 740-670-5330.\n\nEnvirothon competitions challenge high scho
 ol students' knowledge of soils\, forestry\, wildlife\, aquatic ecology an
 d current environmental issues\, while also encouraging cooperative decisi
 on-making and team building.\n\nLearn more about Ohio Envirothon here: htt
 p://ofswcd.org/?page_id=240\n\nMore information about the Envirothon progr
 am is available at http://www.envirothon.org/.
DTSTART;TZID=America/New_York:20170426T080000
DTEND;TZID=America/New_York:20170426T150000
LOCATION:Jefferson Sportsman Club\, 111 Lena Ln\, Bloomingdale\, OH 43910
SUMMARY:Area 3 Envirothon
END:VEVENT
END:VCALENDAR
