BEGIN:VCALENDAR
VERSION:2.0
PRODID:-//lickingswcd.com//NONSGML kigkonsult.se iCalcreator 2.30.10//
CALSCALE:GREGORIAN
METHOD:PUBLISH
UID:893d34a3-17a5-4fe5-9800-fc194226b949
X-WR-CALDESC:A $20 ticket for the dinner includes social hour from 5:30 - 6
 :30 pm with a selection of hors d'ouerves including sausage kraut balls\, 
 cucumber canapes\, spanakopita\, honey sriracha prawns with grilled ramps\
 , and bruschetta on the menu.  Dinner will be served at 6:30 pm featuring 
 kale soup\, spinach dandelion salad\, roasted turkey breast with mashed sw
 eet potatoes and wilted greens in brown butter.  A rhubarb semifreddo with
  honey oat granola tops off your culinary experience.   Each dish is sure 
 to impress!  \n\n\n\n\n\n\n
X-WR-RELCALID:a41e2c6a57debf530bd5e62b994e4a95
X-WR-TIMEZONE:America/New_York
BEGIN:VTIMEZONE
TZID:America/New_York
BEGIN:STANDARD
TZNAME:EST
DTSTART:20161106T020000
TZOFFSETFROM:-0400
TZOFFSETTO:-0500
RDATE:20171105T020000
END:STANDARD
BEGIN:DAYLIGHT
TZNAME:EDT
DTSTART:20170312T020000
TZOFFSETFROM:-0500
TZOFFSETTO:-0400
RDATE:20180311T020000
END:DAYLIGHT
END:VTIMEZONE
BEGIN:VEVENT
UID:8dbc9742-e997-4f36-94fc-16ca5d8bac5f
DTSTAMP:20260421T193036Z
DESCRIPTION:A $20 ticket for the dinner includes social hour from 5:30 - 6:
 30 pm with a selection of hors d'ouerves including sausage kraut balls\, c
 ucumber canapes\, spanakopita\, honey sriracha prawns with grilled ramps\,
  and bruschetta on the menu.  Dinner will be served at 6:30 pm featuring k
 ale soup\, spinach dandelion salad\, roasted turkey breast with mashed swe
 et potatoes and wilted greens in brown butter.  A rhubarb semifreddo with 
 honey oat granola tops off your culinary experience.   Each dish is sure t
 o impress!  \n\n\n\n\n\n\n
DTSTART;TZID=America/New_York:20170428T173000
DTEND;TZID=America/New_York:20170428T210000
LOCATION:Reese Center\, COTC/OSU Campus\, 1209 University Dr.\, Newark\, 43
 055
SUMMARY:Locally Grown & Gathered Dinner
END:VEVENT
END:VCALENDAR
