BEGIN:VCALENDAR
VERSION:2.0
PRODID:-//lickingswcd.com//NONSGML kigkonsult.se iCalcreator 2.30.10//
CALSCALE:GREGORIAN
METHOD:PUBLISH
UID:84cf775e-be2f-47ca-9c14-9e94ab42b897
X-WR-CALDESC:The Licking County Storm Water Consortium generally meets quar
 terly on the first Wednesday of the month. \n\nCall 740-670-5330 to confir
 m meeting dates\, times and locations.
X-WR-RELCALID:4f11793bab3723f8eebe877143ca9423
X-WR-TIMEZONE:America/New_York
BEGIN:VTIMEZONE
TZID:America/New_York
BEGIN:STANDARD
TZNAME:EST
DTSTART:20161106T020000
TZOFFSETFROM:-0400
TZOFFSETTO:-0500
RDATE:20171105T020000
END:STANDARD
BEGIN:DAYLIGHT
TZNAME:EDT
DTSTART:20170312T020000
TZOFFSETFROM:-0500
TZOFFSETTO:-0400
RDATE:20180311T020000
END:DAYLIGHT
END:VTIMEZONE
BEGIN:VEVENT
UID:345afa3e-2297-42d4-9acf-88fbb30edd7e
DTSTAMP:20260421T174951Z
DESCRIPTION:The Licking County Storm Water Consortium generally meets quart
 erly on the first Wednesday of the month. \n\nCall 740-670-5330 to confirm
  meeting dates\, times and locations.
DTSTART;TZID=America/New_York:20170503T090000
DTEND;TZID=America/New_York:20170503T103000
LOCATION:
SUMMARY:Storm Water Consortium Meeting
END:VEVENT
END:VCALENDAR
