BEGIN:VCALENDAR
VERSION:2.0
PRODID:-//lickingswcd.com//NONSGML kigkonsult.se iCalcreator 2.30.10//
CALSCALE:GREGORIAN
METHOD:PUBLISH
UID:5e8836d0-9bce-45d9-816b-70da1cff61d6
X-WR-CALDESC:Ohio Envirothon will be held June 11-13\, 2017 at Ohio Christi
 an University.\n\nEnvirothon competitions challenge high school students' 
 knowledge of soils\, forestry\, wildlife\, aquatic ecology and current env
 ironmental issues\, while also encouraging cooperative decision-making and
  team building.
X-WR-RELCALID:970dd97e103e1d27ba9f065e3fce9ca2
X-WR-TIMEZONE:America/New_York
BEGIN:VTIMEZONE
TZID:America/New_York
BEGIN:STANDARD
TZNAME:EST
DTSTART:20161106T020000
TZOFFSETFROM:-0400
TZOFFSETTO:-0500
RDATE:20171105T020000
RDATE:20181104T020000
END:STANDARD
BEGIN:DAYLIGHT
TZNAME:EDT
DTSTART:20170312T020000
TZOFFSETFROM:-0500
TZOFFSETTO:-0400
RDATE:20180311T020000
END:DAYLIGHT
END:VTIMEZONE
BEGIN:VEVENT
UID:2d399f9a-9e02-435d-a458-299b1a6b8e00
DTSTAMP:20260421T162626Z
DESCRIPTION:Ohio Envirothon will be held June 11-13\, 2017 at Ohio Christia
 n University.\n\nEnvirothon competitions challenge high school students' k
 nowledge of soils\, forestry\, wildlife\, aquatic ecology and current envi
 ronmental issues\, while also encouraging cooperative decision-making and 
 team building.
DTSTART;TZID=America/New_York:20170611T000000
DTEND;TZID=America/New_York:20170613T235900
LOCATION:Ohio Christian University\, 1476 Lancaster Pike\, Circleville\, Oh
 io 43113
SUMMARY:Ohio Envirothon
END:VEVENT
END:VCALENDAR
