BEGIN:VCALENDAR
VERSION:2.0
PRODID:-//lickingswcd.com//NONSGML kigkonsult.se iCalcreator 2.30.10//
CALSCALE:GREGORIAN
METHOD:PUBLISH
UID:18ee73d2-8f98-4b4c-9aac-e516ed5f0f7e
X-WR-CALDESC:Learn fun ways to conserve land\, soil\, and water to better h
 elp all members of the Licking County community. \n\nWe are hosting the Li
 cking County Chamber After Hours\, 5-7p\, Thursday\, June 22 at the Lickin
 g Soil  & Water Office\, Ag Services Center\, 771 E. Main St.\, Newark\, O
 hio 43055.
X-WR-RELCALID:5e440d72e498cfd223ffd0fe27fc9cfc
X-WR-TIMEZONE:America/New_York
BEGIN:VTIMEZONE
TZID:America/New_York
BEGIN:STANDARD
TZNAME:EST
DTSTART:20161106T020000
TZOFFSETFROM:-0400
TZOFFSETTO:-0500
RDATE:20171105T020000
RDATE:20181104T020000
END:STANDARD
BEGIN:DAYLIGHT
TZNAME:EDT
DTSTART:20170312T020000
TZOFFSETFROM:-0500
TZOFFSETTO:-0400
RDATE:20180311T020000
END:DAYLIGHT
END:VTIMEZONE
BEGIN:VEVENT
UID:692575ae-39e6-451b-992d-8884d6fa5287
DTSTAMP:20260421T160719Z
DESCRIPTION:Learn fun ways to conserve land\, soil\, and water to better he
 lp all members of the Licking County community. \n\nWe are hosting the Lic
 king County Chamber After Hours\, 5-7p\, Thursday\, June 22 at the Licking
  Soil  & Water Office\, Ag Services Center\, 771 E. Main St.\, Newark\, Oh
 io 43055.
DTSTART;TZID=America/New_York:20170622T170000
DTEND;TZID=America/New_York:20170622T190000
LOCATION:771 e. Main Street\, Newark\, Ohio 43055
SUMMARY:LCSWCD Hosts Chamber After Hours
END:VEVENT
END:VCALENDAR
