BEGIN:VCALENDAR
VERSION:2.0
PRODID:-//lickingswcd.com//NONSGML kigkonsult.se iCalcreator 2.30.10//
CALSCALE:GREGORIAN
METHOD:PUBLISH
UID:4f0f71b7-315f-429b-80c1-105b8af79f72
X-WR-CALDESC:The Licking Soil & Water Board holds its regular monthly meeti
 ng at 4:30 p.m. on the second Wednesday of each month.\n\nMeetings are gen
 erally held in the Ag. Services Center\, 771 E. Main Street Newark Ohio 43
 055.\n\nThe public is welcome to attend.  Please call\, 740-670-5330\, to 
 confirm as the date\, time or location may change.
X-WR-RELCALID:dadc78cb3c3e5cbae521bc263694eefd
X-WR-TIMEZONE:America/New_York
BEGIN:VTIMEZONE
TZID:America/New_York
BEGIN:STANDARD
TZNAME:EST
DTSTART:20161106T020000
TZOFFSETFROM:-0400
TZOFFSETTO:-0500
RDATE:20171105T020000
RDATE:20181104T020000
END:STANDARD
BEGIN:DAYLIGHT
TZNAME:EDT
DTSTART:20170312T020000
TZOFFSETFROM:-0500
TZOFFSETTO:-0400
RDATE:20180311T020000
END:DAYLIGHT
END:VTIMEZONE
BEGIN:VEVENT
UID:218dfca6-a0c3-4eb4-9305-2f859f15013e
DTSTAMP:20260421T123657Z
DESCRIPTION:The Licking Soil & Water Board holds its regular monthly meetin
 g at 4:30 p.m. on the second Wednesday of each month.\n\nMeetings are gene
 rally held in the Ag. Services Center\, 771 E. Main Street Newark Ohio 430
 55.\n\nThe public is welcome to attend.  Please call\, 740-670-5330\, to c
 onfirm as the date\, time or location may change.
DTSTART;TZID=America/New_York:20170809T163000
DTEND;TZID=America/New_York:20170809T173000
LOCATION:
SUMMARY:LCSWCD Board Meeting
END:VEVENT
END:VCALENDAR
