BEGIN:VCALENDAR
VERSION:2.0
PRODID:-//lickingswcd.com//NONSGML kigkonsult.se iCalcreator 2.30.10//
CALSCALE:GREGORIAN
METHOD:PUBLISH
UID:292792b0-dd25-4489-92a5-758f02d1cdc5
X-WR-CALDESC:A $20 ticket for the dinner includes social hour from 5:30 - 6
 :30 pm with a selection of hors d'ouerves.   Dinner will be served at 6:30
  pm Dessert tops off your culinary experience.   Each dish is sure to impr
 ess!  \n\n\n\n\n\n\n
X-WR-RELCALID:af7fff8485e80ab3863929aa6f185967
X-WR-TIMEZONE:America/New_York
BEGIN:VTIMEZONE
TZID:America/New_York
BEGIN:STANDARD
TZNAME:EST
DTSTART:20171105T020000
TZOFFSETFROM:-0400
TZOFFSETTO:-0500
RDATE:20181104T020000
END:STANDARD
BEGIN:DAYLIGHT
TZNAME:EDT
DTSTART:20180311T020000
TZOFFSETFROM:-0500
TZOFFSETTO:-0400
RDATE:20190310T020000
END:DAYLIGHT
END:VTIMEZONE
BEGIN:VEVENT
UID:b7b0bd0d-8b2f-4484-a2ba-34346208236c
DTSTAMP:20260422T023245Z
DESCRIPTION:A $20 ticket for the dinner includes social hour from 5:30 - 6:
 30 pm with a selection of hors d'ouerves.   Dinner will be served at 6:30 
 pm Dessert tops off your culinary experience.   Each dish is sure to impre
 ss!  \n\n\n\n\n\n\n
DTSTART;TZID=America/New_York:20180427T173000
DTEND;TZID=America/New_York:20180427T210000
LOCATION:Reese Center\, COTC/OSU Campus\, 1209 University Dr.\, Newark\, 43
 055
SUMMARY:Locally Grown & Gathered Dinner
END:VEVENT
END:VCALENDAR
