BEGIN:VCALENDAR
VERSION:2.0
PRODID:-//lickingswcd.com//NONSGML kigkonsult.se iCalcreator 2.30.10//
CALSCALE:GREGORIAN
METHOD:PUBLISH
UID:0244d008-fcc0-4b7d-8821-798e32796e2a
X-WR-CALDESC:South Licking Watershed Conservancy District meets on the seco
 nd Monday of each month\, 6 pm\, at the Village of Hebron Municipal Comple
 x\, 934 W. Main Street\, Hebron\, OH 43025.
X-WR-RELCALID:c03fc1988e9d0518faa86e4ceaaf114c
X-WR-TIMEZONE:America/New_York
BEGIN:VTIMEZONE
TZID:America/New_York
BEGIN:STANDARD
TZNAME:EST
DTSTART:20171105T020000
TZOFFSETFROM:-0400
TZOFFSETTO:-0500
RDATE:20181104T020000
RDATE:20191103T020000
END:STANDARD
BEGIN:DAYLIGHT
TZNAME:EDT
DTSTART:20180311T020000
TZOFFSETFROM:-0500
TZOFFSETTO:-0400
RDATE:20190310T020000
END:DAYLIGHT
END:VTIMEZONE
BEGIN:VEVENT
UID:4c95b965-1e04-4625-834b-976734528278
DTSTAMP:20260422T093929Z
DESCRIPTION:South Licking Watershed Conservancy District meets on the secon
 d Monday of each month\, 6 pm\, at the Village of Hebron Municipal Complex
 \, 934 W. Main Street\, Hebron\, OH 43025.
DTSTART;TZID=America/New_York:20180813T180000
DTEND;TZID=America/New_York:20180813T190000
LOCATION:illage of Hebron Municipal Complex\, 934 W. Main Street\, Hebron\,
  OH 43025.
SUMMARY:South Licking Watershed Conservancy District Meeting
END:VEVENT
END:VCALENDAR
