BEGIN:VCALENDAR
VERSION:2.0
PRODID:-//lickingswcd.com//NONSGML kigkonsult.se iCalcreator 2.30.10//
CALSCALE:GREGORIAN
METHOD:PUBLISH
UID:4b37d55d-7a5a-4c21-9667-87e034417c6c
X-WR-CALDESC:Licking Soil & Water will hold a DIY Rain Barrels and Rain Gar
 dens Workshop\, 6-8p\, Tuesday\, August 14\, at the Licking Soil & Water B
 arn\, 771 E. Main St.\, Newark\, Ohio 43055. This program is part of our 2
 018 Conservation Learning Series.
X-WR-RELCALID:b24f13937419797164d4adc0bd15e25d
X-WR-TIMEZONE:America/New_York
BEGIN:VTIMEZONE
TZID:America/New_York
BEGIN:STANDARD
TZNAME:EST
DTSTART:20171105T020000
TZOFFSETFROM:-0400
TZOFFSETTO:-0500
RDATE:20181104T020000
RDATE:20191103T020000
END:STANDARD
BEGIN:DAYLIGHT
TZNAME:EDT
DTSTART:20180311T020000
TZOFFSETFROM:-0500
TZOFFSETTO:-0400
RDATE:20190310T020000
END:DAYLIGHT
END:VTIMEZONE
BEGIN:VEVENT
UID:c25727c8-5226-4aa1-ba01-d36cf65ff9b4
DTSTAMP:20260422T094147Z
DESCRIPTION:Licking Soil & Water will hold a DIY Rain Barrels and Rain Gard
 ens Workshop\, 6-8p\, Tuesday\, August 14\, at the Licking Soil & Water Ba
 rn\, 771 E. Main St.\, Newark\, Ohio 43055. This program is part of our 20
 18 Conservation Learning Series.
DTSTART;TZID=America/New_York:20180814T180000
DTEND;TZID=America/New_York:20180814T200000
LOCATION:Licking Soil & Water Barn\, 771 E. Main St.\, Newark\, Ohio 43055.
SUMMARY:DIY Rain Barrels and Rain Gardens
END:VEVENT
END:VCALENDAR
