BEGIN:VCALENDAR
VERSION:2.0
PRODID:-//lickingswcd.com//NONSGML kigkonsult.se iCalcreator 2.30.10//
CALSCALE:GREGORIAN
METHOD:PUBLISH
UID:9377ed93-249b-4490-b3f8-642cff6847e5
X-WR-CALDESC:The Licking County SWCD Board holds its regular monthly meetin
 g at 4:30 p.m. on the second Wednesday of each month. \nMeetings are gener
 ally held in the Ag. Services Center\, 771 E. Main Street Newark Ohio 4305
 5.\nThe public is welcome to attend.  Please call\, 740-670-5330\, to conf
 irm as the date\, time or location may change.
X-WR-RELCALID:d47d5feb9d108b1c489c2ae2b9096d1e
X-WR-TIMEZONE:America/New_York
BEGIN:VTIMEZONE
TZID:America/New_York
BEGIN:STANDARD
TZNAME:EST
DTSTART:20171105T020000
TZOFFSETFROM:-0400
TZOFFSETTO:-0500
RDATE:20181104T020000
RDATE:20191103T020000
END:STANDARD
BEGIN:DAYLIGHT
TZNAME:EDT
DTSTART:20180311T020000
TZOFFSETFROM:-0500
TZOFFSETTO:-0400
RDATE:20190310T020000
END:DAYLIGHT
END:VTIMEZONE
BEGIN:VEVENT
UID:841efc2e-1ba0-40d0-a238-f11bb9a08552
DTSTAMP:20260422T095444Z
DESCRIPTION:The Licking County SWCD Board holds its regular monthly meeting
  at 4:30 p.m. on the second Wednesday of each month. \nMeetings are genera
 lly held in the Ag. Services Center\, 771 E. Main Street Newark Ohio 43055
 .\nThe public is welcome to attend.  Please call\, 740-670-5330\, to confi
 rm as the date\, time or location may change.
DTSTART;TZID=America/New_York:20180815T163000
DTEND;TZID=America/New_York:20180815T173000
LOCATION:Ag. Services Center\, 771 E. Main Street Newark Ohio 43055.
SUMMARY:LCSWCD Board Meeting
END:VEVENT
END:VCALENDAR
