BEGIN:VCALENDAR
VERSION:2.0
PRODID:-//lickingswcd.com//NONSGML kigkonsult.se iCalcreator 2.30.10//
CALSCALE:GREGORIAN
METHOD:PUBLISH
UID:84298e9f-d129-4eb5-8b87-e67f6244770a
X-WR-CALDESC:Licking Soil & Water will hold a Stream Team Training\, 6-8p\,
  Wednesday\, August 22\, at Taft Reserve.\nThis program is part of our 201
 8 Conservation Learning Series.
X-WR-RELCALID:17fef076898b9fe9346f9c8adf7f840a
X-WR-TIMEZONE:America/New_York
BEGIN:VTIMEZONE
TZID:America/New_York
BEGIN:STANDARD
TZNAME:EST
DTSTART:20171105T020000
TZOFFSETFROM:-0400
TZOFFSETTO:-0500
RDATE:20181104T020000
RDATE:20191103T020000
END:STANDARD
BEGIN:DAYLIGHT
TZNAME:EDT
DTSTART:20180311T020000
TZOFFSETFROM:-0500
TZOFFSETTO:-0400
RDATE:20190310T020000
END:DAYLIGHT
END:VTIMEZONE
BEGIN:VEVENT
UID:ff0dee48-743e-4a27-877d-96eedb5d1758
DTSTAMP:20260422T094404Z
DESCRIPTION:Licking Soil & Water will hold a Stream Team Training\, 6-8p\, 
 Wednesday\, August 22\, at Taft Reserve.\nThis program is part of our 2018
  Conservation Learning Series.
DTSTART;TZID=America/New_York:20180822T180000
DTEND;TZID=America/New_York:20180822T200000
LOCATION:Taft Reserve
SUMMARY:Stream Team Training
END:VEVENT
END:VCALENDAR
