BEGIN:VCALENDAR
VERSION:2.0
PRODID:-//lickingswcd.com//NONSGML kigkonsult.se iCalcreator 2.30.10//
CALSCALE:GREGORIAN
METHOD:PUBLISH
UID:ce3370fc-2e95-4454-a54d-734e74c99ca5
X-WR-CALDESC:Help clean up our rivers and streams. Clean ups are happening 
 all over Licking County. Sign up as an individual\, family\, team\, or com
 pany. Registration opens in July. Time of duration is different in each lo
 cation.
X-WR-RELCALID:66a89d31f882285b369fb9c437511f40
X-WR-TIMEZONE:America/New_York
BEGIN:VTIMEZONE
TZID:America/New_York
BEGIN:STANDARD
TZNAME:EST
DTSTART:20171105T020000
TZOFFSETFROM:-0400
TZOFFSETTO:-0500
RDATE:20181104T020000
RDATE:20191103T020000
END:STANDARD
BEGIN:DAYLIGHT
TZNAME:EDT
DTSTART:20180311T020000
TZOFFSETFROM:-0500
TZOFFSETTO:-0400
RDATE:20190310T020000
RDATE:20200308T020000
END:DAYLIGHT
END:VTIMEZONE
BEGIN:VEVENT
UID:28239e42-7b97-471c-9d8c-1d0e6aeb38de
DTSTAMP:20260422T111926Z
DESCRIPTION:Help clean up our rivers and streams. Clean ups are happening a
 ll over Licking County. Sign up as an individual\, family\, team\, or comp
 any. Registration opens in July. Time of duration is different in each loc
 ation.
DTSTART;TZID=America/New_York:20180908T080000
DTEND;TZID=America/New_York:20180908T120000
LOCATION:Various locations throughout Licking County
SUMMARY:River Round Up 2018
END:VEVENT
END:VCALENDAR
