BEGIN:VCALENDAR
VERSION:2.0
PRODID:-//lickingswcd.com//NONSGML kigkonsult.se iCalcreator 2.30.10//
CALSCALE:GREGORIAN
METHOD:PUBLISH
UID:d34e77bd-679e-4b8f-aa4a-a4ef9a924b2b
X-WR-CALDESC:South Licking Watershed Conservancy District meets on the seco
 nd Monday of each month\, 6 pm\, at the Village of Hebron Municipal Comple
 x\, 934 W. Main Street\, Hebron\, OH 43025.\n\n
X-WR-RELCALID:8670adcb36c0e71e2bf0ccec244db04a
X-WR-TIMEZONE:America/New_York
BEGIN:VTIMEZONE
TZID:America/New_York
BEGIN:STANDARD
TZNAME:EST
DTSTART:20171105T020000
TZOFFSETFROM:-0400
TZOFFSETTO:-0500
RDATE:20181104T020000
RDATE:20191103T020000
END:STANDARD
BEGIN:DAYLIGHT
TZNAME:EDT
DTSTART:20180311T020000
TZOFFSETFROM:-0500
TZOFFSETTO:-0400
RDATE:20190310T020000
RDATE:20200308T020000
END:DAYLIGHT
END:VTIMEZONE
BEGIN:VEVENT
UID:959c9bec-3652-4183-a642-83bb9b4b36c6
DTSTAMP:20260422T114830Z
DESCRIPTION:South Licking Watershed Conservancy District meets on the secon
 d Monday of each month\, 6 pm\, at the Village of Hebron Municipal Complex
 \, 934 W. Main Street\, Hebron\, OH 43025.\n\n
DTSTART;TZID=America/New_York:20180910T180000
DTEND;TZID=America/New_York:20180910T190000
LOCATION:Village of Hebron Municipal Complex\, 934 W. Main Street\, Hebron\
 , OH 43025.
SUMMARY:South Licking Watershed Conservancy District Meeting
END:VEVENT
END:VCALENDAR
