BEGIN:VCALENDAR
VERSION:2.0
PRODID:-//lickingswcd.com//NONSGML kigkonsult.se iCalcreator 2.30.10//
CALSCALE:GREGORIAN
METHOD:PUBLISH
UID:904fa449-047a-4768-af58-a5663a04f49a
X-WR-CALDESC:Licking Soil & Water will hold a Stream Team Training\, 5:30-7
 :30p\, Tuesday\, September 18\, at Riverview Preserve. This program is par
 t of our 2018 Conservation Learning Series.
X-WR-RELCALID:c2239f55a09349eb1ab9f9ee0d5a5f24
X-WR-TIMEZONE:America/New_York
BEGIN:VTIMEZONE
TZID:America/New_York
BEGIN:STANDARD
TZNAME:EST
DTSTART:20171105T020000
TZOFFSETFROM:-0400
TZOFFSETTO:-0500
RDATE:20181104T020000
RDATE:20191103T020000
END:STANDARD
BEGIN:DAYLIGHT
TZNAME:EDT
DTSTART:20180311T020000
TZOFFSETFROM:-0500
TZOFFSETTO:-0400
RDATE:20190310T020000
RDATE:20200308T020000
END:DAYLIGHT
END:VTIMEZONE
BEGIN:VEVENT
UID:7e7ba182-7680-4d62-a7c3-6bc0a17f4e46
DTSTAMP:20260422T111226Z
DESCRIPTION:Licking Soil & Water will hold a Stream Team Training\, 5:30-7:
 30p\, Tuesday\, September 18\, at Riverview Preserve. This program is part
  of our 2018 Conservation Learning Series.
DTSTART;TZID=America/New_York:20180918T173000
DTEND;TZID=America/New_York:20180918T193000
LOCATION:Riverview Preserve
SUMMARY:Stream Team Training
END:VEVENT
END:VCALENDAR
