BEGIN:VCALENDAR
VERSION:2.0
PRODID:-//lickingswcd.com//NONSGML kigkonsult.se iCalcreator 2.30.10//
CALSCALE:GREGORIAN
METHOD:PUBLISH
UID:0c97d143-9e89-4f0d-9630-744fd9077026
X-WR-CALDESC:South Licking Watershed Conservancy District meets on the seco
 nd Monday of each month\, 6 pm\, at the Village of Hebron Municipal Comple
 x\, 934 W. Main Street\, Hebron\, OH 43025.\n\n
X-WR-RELCALID:b5637c74a4622cdd38fbe81e5769a7bf
X-WR-TIMEZONE:America/New_York
BEGIN:VTIMEZONE
TZID:America/New_York
BEGIN:STANDARD
TZNAME:EST
DTSTART:20171105T020000
TZOFFSETFROM:-0400
TZOFFSETTO:-0500
RDATE:20181104T020000
RDATE:20191103T020000
END:STANDARD
BEGIN:DAYLIGHT
TZNAME:EDT
DTSTART:20180311T020000
TZOFFSETFROM:-0500
TZOFFSETTO:-0400
RDATE:20190310T020000
RDATE:20200308T020000
END:DAYLIGHT
END:VTIMEZONE
BEGIN:VEVENT
UID:6f5bb99e-16c9-48ec-b6f2-7dd89fda71b3
DTSTAMP:20260422T124146Z
DESCRIPTION:South Licking Watershed Conservancy District meets on the secon
 d Monday of each month\, 6 pm\, at the Village of Hebron Municipal Complex
 \, 934 W. Main Street\, Hebron\, OH 43025.\n\n
DTSTART;TZID=America/New_York:20181008T180000
DTEND;TZID=America/New_York:20181008T190000
LOCATION:Village of Hebron Municipal Complex\, 934 W. Main Street\, Hebron\
 , OH 43025.
SUMMARY:South Licking Watershed Conservancy District Meeting
END:VEVENT
END:VCALENDAR
