BEGIN:VCALENDAR
VERSION:2.0
PRODID:-//lickingswcd.com//NONSGML kigkonsult.se iCalcreator 2.30.10//
CALSCALE:GREGORIAN
METHOD:PUBLISH
UID:cad6169d-c52e-4ae0-9882-aee1b9a71846
X-WR-CALDESC:The LCSWCD will be closed to observe Veteran's day
X-WR-RELCALID:a6a40b68d36c5eb483c4408aa8bf3287
X-WR-TIMEZONE:America/New_York
BEGIN:VTIMEZONE
TZID:America/New_York
BEGIN:STANDARD
TZNAME:EST
DTSTART:20181104T020000
TZOFFSETFROM:-0400
TZOFFSETTO:-0500
RDATE:20191103T020000
END:STANDARD
BEGIN:DAYLIGHT
TZNAME:EDT
DTSTART:20180311T020000
TZOFFSETFROM:-0500
TZOFFSETTO:-0400
RDATE:20190310T020000
RDATE:20200308T020000
END:DAYLIGHT
END:VTIMEZONE
BEGIN:VEVENT
UID:327027e2-72d7-464d-b8f2-0e35176911af
DTSTAMP:20260422T142908Z
DESCRIPTION:The LCSWCD will be closed to observe Veteran's day
DTSTART;TZID=America/New_York:20181112T000000
DTEND;TZID=America/New_York:20181112T235900
LOCATION:
SUMMARY:Veteran's Day Observed-office closed
END:VEVENT
END:VCALENDAR
