BEGIN:VCALENDAR
VERSION:2.0
PRODID:-//lickingswcd.com//NONSGML kigkonsult.se iCalcreator 2.30.10//
CALSCALE:GREGORIAN
METHOD:PUBLISH
UID:cf748457-64c3-4895-b2ce-f3eafcb091b2
X-WR-CALDESC:Please Note: The date and time of the December 2018 Annual Mee
 ting is TO BE DETERMINED.\n\nSouth Licking Watershed Conservancy District 
 meets on the second Monday of each month\, 6 pm\, at the Village of Hebron
  Municipal Complex\, 934 W. Main Street\, Hebron\, OH 43025.
X-WR-RELCALID:1d9abb1e5ed017d4a59e985dcd28f46f
X-WR-TIMEZONE:America/New_York
BEGIN:VTIMEZONE
TZID:America/New_York
BEGIN:STANDARD
TZNAME:EST
DTSTART:20181104T020000
TZOFFSETFROM:-0400
TZOFFSETTO:-0500
RDATE:20191103T020000
END:STANDARD
BEGIN:DAYLIGHT
TZNAME:EDT
DTSTART:20180311T020000
TZOFFSETFROM:-0500
TZOFFSETTO:-0400
RDATE:20190310T020000
RDATE:20200308T020000
END:DAYLIGHT
END:VTIMEZONE
BEGIN:VEVENT
UID:8d61f7ed-2f5f-4c33-9def-b56013f71d81
DTSTAMP:20260422T161214Z
DESCRIPTION:Please Note: The date and time of the December 2018 Annual Meet
 ing is TO BE DETERMINED.\n\nSouth Licking Watershed Conservancy District m
 eets on the second Monday of each month\, 6 pm\, at the Village of Hebron 
 Municipal Complex\, 934 W. Main Street\, Hebron\, OH 43025.
DTSTART;TZID=America/New_York:20181210T163000
DTEND;TZID=America/New_York:20181210T173000
LOCATION:Village of Hebron Municipal Complex\, 934 W. Main Street\, Hebron\
 , OH 43025
SUMMARY:South Licking Watershed Conservancy District Meeting
END:VEVENT
END:VCALENDAR
