BEGIN:VCALENDAR
VERSION:2.0
PRODID:-//lickingswcd.com//NONSGML kigkonsult.se iCalcreator 2.30.10//
CALSCALE:GREGORIAN
METHOD:PUBLISH
UID:843c06c3-dbd7-45a7-8ffb-f07f978de931
X-WR-CALDESC:The Annual meeting of the South Licking Watershed Conservancy 
 District will take place before the Conservancy Court in the Common Pleas 
 Court of Licking County\, Ohio\, on December 14\, 2018\, at 3:00 p.m. in t
 he Licking County Courthouse\, Newark\, Ohio.\n
X-WR-RELCALID:74de798efc9026ceae8bcbf1c9d7ab97
X-WR-TIMEZONE:America/New_York
BEGIN:VTIMEZONE
TZID:America/New_York
BEGIN:STANDARD
TZNAME:EST
DTSTART:20181104T020000
TZOFFSETFROM:-0400
TZOFFSETTO:-0500
RDATE:20191103T020000
END:STANDARD
BEGIN:DAYLIGHT
TZNAME:EDT
DTSTART:20180311T020000
TZOFFSETFROM:-0500
TZOFFSETTO:-0400
RDATE:20190310T020000
RDATE:20200308T020000
END:DAYLIGHT
END:VTIMEZONE
BEGIN:VEVENT
UID:614cf9f8-2807-4e36-b34d-e68af04c78cf
DTSTAMP:20260422T161034Z
DESCRIPTION:The Annual meeting of the South Licking Watershed Conservancy D
 istrict will take place before the Conservancy Court in the Common Pleas C
 ourt of Licking County\, Ohio\, on December 14\, 2018\, at 3:00 p.m. in th
 e Licking County Courthouse\, Newark\, Ohio.\n
DTSTART;TZID=America/New_York:20181214T150000
DTEND;TZID=America/New_York:20181214T163000
LOCATION:Common Pleas Court of Licking County
SUMMARY:South Licking Watershed Conservancy District
END:VEVENT
END:VCALENDAR
