BEGIN:VCALENDAR
VERSION:2.0
PRODID:-//lickingswcd.com//NONSGML kigkonsult.se iCalcreator 2.30.10//
CALSCALE:GREGORIAN
METHOD:PUBLISH
UID:ef889da0-76f0-4891-b33e-8fb7304c024f
X-WR-CALDESC:Licking County Soil and Water Conservation District will hold 
 their monthly District Board Meeting Wednesday\, January 9\, 2018 at 4:30 
 p.m. \n\nElected Board members\, Seth Dobbelaer and Ron Thompson\, will be
  sworn-in for their three-year term.  Officers will be installed and commi
 ttees will be set for 2018.  \n\nThe public is welcome to attend monthly B
 oard meetings and serve on committees.  Contact Soil & Water at 740-670-53
 30 for additional information.  \n
X-WR-RELCALID:81154eff6e77f95faeb47a97c5fd21b8
X-WR-TIMEZONE:America/New_York
BEGIN:VTIMEZONE
TZID:America/New_York
BEGIN:STANDARD
TZNAME:EST
DTSTART:20181104T020000
TZOFFSETFROM:-0400
TZOFFSETTO:-0500
RDATE:20191103T020000
END:STANDARD
BEGIN:DAYLIGHT
TZNAME:EDT
DTSTART:20180311T020000
TZOFFSETFROM:-0500
TZOFFSETTO:-0400
RDATE:20190310T020000
RDATE:20200308T020000
END:DAYLIGHT
END:VTIMEZONE
BEGIN:VEVENT
UID:5e3dbe11-7480-4aef-a2c3-687676927d68
DTSTAMP:20260422T175234Z
DESCRIPTION:Licking County Soil and Water Conservation District will hold t
 heir monthly District Board Meeting Wednesday\, January 9\, 2018 at 4:30 p
 .m. \n\nElected Board members\, Seth Dobbelaer and Ron Thompson\, will be 
 sworn-in for their three-year term.  Officers will be installed and commit
 tees will be set for 2018.  \n\nThe public is welcome to attend monthly Bo
 ard meetings and serve on committees.  Contact Soil & Water at 740-670-533
 0 for additional information.  \n
DTSTART;TZID=America/New_York:20190109T163000
DTEND;TZID=America/New_York:20190109T180000
LOCATION:Ag Service Center\, 771 East Main Street\, Newark\, OH  43055
SUMMARY:SWCD Board Meeting
END:VEVENT
END:VCALENDAR
