BEGIN:VCALENDAR
VERSION:2.0
PRODID:-//lickingswcd.com//NONSGML kigkonsult.se iCalcreator 2.30.10//
CALSCALE:GREGORIAN
METHOD:PUBLISH
UID:e713c877-410a-4607-ade8-745c24396ed9
X-WR-CALDESC:Online store opens on February 1st.  Additional information fo
 rthcoming.
X-WR-RELCALID:d3958bf70c02b1b22e6ea72fd4164c77
X-WR-TIMEZONE:America/New_York
BEGIN:VTIMEZONE
TZID:America/New_York
BEGIN:STANDARD
TZNAME:EST
DTSTART:20181104T020000
TZOFFSETFROM:-0400
TZOFFSETTO:-0500
RDATE:20191103T020000
END:STANDARD
BEGIN:DAYLIGHT
TZNAME:EDT
DTSTART:20180311T020000
TZOFFSETFROM:-0500
TZOFFSETTO:-0400
RDATE:20190310T020000
RDATE:20200308T020000
END:DAYLIGHT
END:VTIMEZONE
BEGIN:VEVENT
UID:3b5be2d2-c279-4857-a02c-c2772ea73920
DTSTAMP:20260422T194642Z
DESCRIPTION:Online store opens on February 1st.  Additional information for
 thcoming.
DTSTART;TZID=America/New_York:20190201T000000
DTEND;TZID=America/New_York:20190201T235900
LOCATION:
SUMMARY:2019 Tree Sale Ordering Opens
END:VEVENT
END:VCALENDAR
