BEGIN:VCALENDAR
VERSION:2.0
PRODID:-//lickingswcd.com//NONSGML kigkonsult.se iCalcreator 2.30.10//
CALSCALE:GREGORIAN
METHOD:PUBLISH
UID:255780d2-cf75-4385-81e0-be30c8a45286
X-WR-CALDESC:Pre-Applicaiton deadline is Monday\, February 4\, 2019. \n\nTh
 e Licking Soil & Water Farmland Preservation Program:\nHas been preserving
  farmland since 2009\,\nHolds 18 Agriculture Easements totaling 2\,900 acr
 es\,\nHas brought $4.75 million in Clean Ohio and federal funds to Licking
  County\, and\nHas been allocated $337\,000 for 2019 to purchase agricultu
 ral easements.
X-WR-RELCALID:ca1733c1190b4e22b4fb744aecb2c7b4
X-WR-TIMEZONE:America/New_York
BEGIN:VTIMEZONE
TZID:America/New_York
BEGIN:STANDARD
TZNAME:EST
DTSTART:20181104T020000
TZOFFSETFROM:-0400
TZOFFSETTO:-0500
RDATE:20191103T020000
END:STANDARD
BEGIN:DAYLIGHT
TZNAME:EDT
DTSTART:20180311T020000
TZOFFSETFROM:-0500
TZOFFSETTO:-0400
RDATE:20190310T020000
RDATE:20200308T020000
END:DAYLIGHT
END:VTIMEZONE
BEGIN:VEVENT
UID:02e2360d-42c4-4d0a-845b-fac95540a889
DTSTAMP:20260422T212418Z
DESCRIPTION:Pre-Applicaiton deadline is Monday\, February 4\, 2019. \n\nThe
  Licking Soil & Water Farmland Preservation Program:\nHas been preserving 
 farmland since 2009\,\nHolds 18 Agriculture Easements totaling 2\,900 acre
 s\,\nHas brought $4.75 million in Clean Ohio and federal funds to Licking 
 County\, and\nHas been allocated $337\,000 for 2019 to purchase agricultur
 al easements.
DTSTART;TZID=America/New_York:20190204T000000
DTEND;TZID=America/New_York:20190204T235900
LOCATION:SWCD Office\, 771 East Main Street\, Suite 100\, Newark\, OH  4305
 5
SUMMARY:Ag. Easement Purchase Program Pre-Application Deadline
END:VEVENT
END:VCALENDAR
