BEGIN:VCALENDAR
VERSION:2.0
PRODID:-//lickingswcd.com//NONSGML kigkonsult.se iCalcreator 2.30.10//
CALSCALE:GREGORIAN
METHOD:PUBLISH
UID:523a11ed-73d9-4788-a2a9-fb198c93404c
X-WR-CALDESC:The Ohio Certified VolunteerNaturalist (OCVN) program promotes
  awareness and citizen stewardship of Ohio’s natural resources through sci
 ence-based education and community service.\nSince 2017\, The Dawes Arbore
 tum\, Licking County Soil & Water Conservation District\, and Licking Park
  District work together to co-host the Licking County OCVN course.  This c
 ollaboration includes coordinating the 40-hour OCVN course on the biology\
 , ecology and natural history of Ohio.  The host organizations also provid
 e continuing education and volunteer opportunities for OCVNs in the Lickin
 g County area.\nThe training program is to provide a balanced\, integrated
  practical course in natural resource science.\nVolunteer Naturalist Certi
 fication Requirements:\n• 40 hours of combined classroom and field instruc
 tion\n• 40 hours of approved volunteer service projects.\n• After certific
 ation\, requires 20 hours volunteer service\nand 8 hours advanced training
 \nannually.\n
X-WR-RELCALID:6711ef237c8778e89bb60772a363bf79
X-WR-TIMEZONE:America/New_York
BEGIN:VTIMEZONE
TZID:America/New_York
BEGIN:STANDARD
TZNAME:EST
DTSTART:20181104T020000
TZOFFSETFROM:-0400
TZOFFSETTO:-0500
RDATE:20191103T020000
END:STANDARD
BEGIN:DAYLIGHT
TZNAME:EDT
DTSTART:20180311T020000
TZOFFSETFROM:-0500
TZOFFSETTO:-0400
RDATE:20190310T020000
RDATE:20200308T020000
END:DAYLIGHT
END:VTIMEZONE
BEGIN:VEVENT
UID:68bf74b0-1e8d-47c5-af9c-65be8b9f2d36
DTSTAMP:20260422T194928Z
DESCRIPTION:The Ohio Certified VolunteerNaturalist (OCVN) program promotes 
 awareness and citizen stewardship of Ohio’s natural resources through scie
 nce-based education and community service.\nSince 2017\, The Dawes Arboret
 um\, Licking County Soil & Water Conservation District\, and Licking Park 
 District work together to co-host the Licking County OCVN course.  This co
 llaboration includes coordinating the 40-hour OCVN course on the biology\,
  ecology and natural history of Ohio.  The host organizations also provide
  continuing education and volunteer opportunities for OCVNs in the Licking
  County area.\nThe training program is to provide a balanced\, integrated 
 practical course in natural resource science.\nVolunteer Naturalist Certif
 ication Requirements:\n• 40 hours of combined classroom and field instruct
 ion\n• 40 hours of approved volunteer service projects.\n• After certifica
 tion\, requires 20 hours volunteer service\nand 8 hours advanced training
 \nannually.\n
DTSTART;TZID=America/New_York:20190208T000000
DTEND;TZID=America/New_York:20190208T235900
LOCATION:Submit to SWCD office\, 771 East Main Street\, Suite 100\, Newark\
 , OH  43055
SUMMARY:OCVN Application deadline EXTENDED for Spring 2019 class
END:VEVENT
END:VCALENDAR
