BEGIN:VCALENDAR
VERSION:2.0
PRODID:-//lickingswcd.com//NONSGML kigkonsult.se iCalcreator 2.30.10//
CALSCALE:GREGORIAN
METHOD:PUBLISH
UID:fc695e1e-35d8-46e9-b5f0-a963ddec1661
X-WR-CALDESC:The South Licking Watershed Conservancy District includes port
 ions of Licking\, Fairfield and Perry counties. Conservancy districts are 
 charged with reducing flooding\; management of streams wetlands and relate
 d conservation\; and water quality and supply issues.
X-WR-RELCALID:ff4fd889d9a61c57f9fcc7705ec8ed5a
X-WR-TIMEZONE:America/New_York
BEGIN:VTIMEZONE
TZID:America/New_York
BEGIN:STANDARD
TZNAME:EST
DTSTART:20181104T020000
TZOFFSETFROM:-0400
TZOFFSETTO:-0500
RDATE:20191103T020000
END:STANDARD
BEGIN:DAYLIGHT
TZNAME:EDT
DTSTART:20180311T020000
TZOFFSETFROM:-0500
TZOFFSETTO:-0400
RDATE:20190310T020000
RDATE:20200308T020000
END:DAYLIGHT
END:VTIMEZONE
BEGIN:VEVENT
UID:f9d4e003-ef1b-4a86-8b09-31fe819a59e3
DTSTAMP:20260422T195714Z
DESCRIPTION:The South Licking Watershed Conservancy District includes porti
 ons of Licking\, Fairfield and Perry counties. Conservancy districts are c
 harged with reducing flooding\; management of streams wetlands and related
  conservation\; and water quality and supply issues.
DTSTART;TZID=America/New_York:20190211T180000
DTEND;TZID=America/New_York:20190211T190000
LOCATION:Village of Hebron Municipal Complex\, 934 W. Main Street\, Hebron\
 , OH 43025.
SUMMARY:South Licking Watershed Conservancy District Monthly Meeting
END:VEVENT
END:VCALENDAR
