BEGIN:VCALENDAR
VERSION:2.0
PRODID:-//lickingswcd.com//NONSGML kigkonsult.se iCalcreator 2.30.10//
CALSCALE:GREGORIAN
METHOD:PUBLISH
UID:f1c2786b-771d-4dad-b690-722e5fa59a43
X-WR-CALDESC:The Coshocton SWCD is collaborating with several surrounding S
 WCDs to host a Soil Health Meeting on Tuesday\, February 12\, at the M Eve
 nt Centre (KOA Campground\, 24688 County Road 10\, Coshocton 43812) from 5
 :30 to 7:30 p.m. The featured farmers for the evening are Joe and Mike Bea
 m from Xenia with the topic Regenerating Your Soils. The Beams are 4th and
  5th generation farmers and have been using a no-till system for over 30 y
 ears. In their operation they practice systematic tiling\, cover crops\, m
 anure\, expanded crop rotation\, and a planter mounted cover crop roller.
 \n\n \n\nThe meeting will also feature a local farmer roundtable discussin
 g the use of cover crops. There is no charge for the meeting and dinner wi
 ll be provided. Reservations are required to ensure that we order enough p
 izza! RSVP to the Coshocton SWCD at 740-622-8087 ext. 4 or email samanthap
 riest@coshoctoncounty.net. Please RSVP by Monday\, February 11th. We hope 
 you will join us to learn more about a cover crop systems approach.
X-WR-RELCALID:293cb6d2778b9dbfcab9ab67b1ad1f37
X-WR-TIMEZONE:America/New_York
BEGIN:VTIMEZONE
TZID:America/New_York
BEGIN:STANDARD
TZNAME:EST
DTSTART:20181104T020000
TZOFFSETFROM:-0400
TZOFFSETTO:-0500
RDATE:20191103T020000
END:STANDARD
BEGIN:DAYLIGHT
TZNAME:EDT
DTSTART:20180311T020000
TZOFFSETFROM:-0500
TZOFFSETTO:-0400
RDATE:20190310T020000
RDATE:20200308T020000
END:DAYLIGHT
END:VTIMEZONE
BEGIN:VEVENT
UID:12a9a1e8-6923-4fc0-87ee-8b9bed9af51c
DTSTAMP:20260422T195248Z
DESCRIPTION:The Coshocton SWCD is collaborating with several surrounding SW
 CDs to host a Soil Health Meeting on Tuesday\, February 12\, at the M Even
 t Centre (KOA Campground\, 24688 County Road 10\, Coshocton 43812) from 5:
 30 to 7:30 p.m. The featured farmers for the evening are Joe and Mike Beam
  from Xenia with the topic Regenerating Your Soils. The Beams are 4th and 
 5th generation farmers and have been using a no-till system for over 30 ye
 ars. In their operation they practice systematic tiling\, cover crops\, ma
 nure\, expanded crop rotation\, and a planter mounted cover crop roller.\n
 \n \n\nThe meeting will also feature a local farmer roundtable discussing 
 the use of cover crops. There is no charge for the meeting and dinner will
  be provided. Reservations are required to ensure that we order enough piz
 za! RSVP to the Coshocton SWCD at 740-622-8087 ext. 4 or email samanthapri
 est@coshoctoncounty.net. Please RSVP by Monday\, February 11th. We hope yo
 u will join us to learn more about a cover crop systems approach.
DTSTART;TZID=America/New_York:20190212T173000
DTEND;TZID=America/New_York:20190212T193000
LOCATION:24688 CR 10\, Coshocton\, OH  43055
SUMMARY:Soil Health Meeting
END:VEVENT
END:VCALENDAR
