BEGIN:VCALENDAR
VERSION:2.0
PRODID:-//lickingswcd.com//NONSGML kigkonsult.se iCalcreator 2.30.10//
CALSCALE:GREGORIAN
METHOD:PUBLISH
UID:bd76826e-5a6b-4c91-bef7-fd2d7c8fb26a
X-WR-CALDESC:
X-WR-RELCALID:3f2812c57de539d86fbfa56a2d016e3a
X-WR-TIMEZONE:America/New_York
BEGIN:VTIMEZONE
TZID:America/New_York
BEGIN:STANDARD
TZNAME:EST
DTSTART:20181104T020000
TZOFFSETFROM:-0400
TZOFFSETTO:-0500
RDATE:20191103T020000
END:STANDARD
BEGIN:DAYLIGHT
TZNAME:EDT
DTSTART:20180311T020000
TZOFFSETFROM:-0500
TZOFFSETTO:-0400
RDATE:20190310T020000
RDATE:20200308T020000
END:DAYLIGHT
END:VTIMEZONE
BEGIN:VEVENT
UID:14dc2863-a162-4f94-a25e-6dad001c37eb
DTSTAMP:20260422T194820Z
DESCRIPTION:
DTSTART;TZID=America/New_York:20190218T000000
DTEND;TZID=America/New_York:20190218T235900
LOCATION:
SUMMARY:President's Day - Office Closed
END:VEVENT
END:VCALENDAR
