BEGIN:VCALENDAR
VERSION:2.0
PRODID:-//lickingswcd.com//NONSGML kigkonsult.se iCalcreator 2.30.10//
CALSCALE:GREGORIAN
METHOD:PUBLISH
UID:e1772284-9f4c-4fe3-b14e-26f63f3d6c38
X-WR-CALDESC:The Licking County Soil and Water Conservation District will h
 old the monthly District Board Meeting.  \n\nThe public is welcome to atte
 nd monthly Board meetings and serve on committees.  Contact Soil & Water a
 t 740-670-5330 for additional information.  \n
X-WR-RELCALID:c0e095d2efda87b79e89d342f53a6cec
X-WR-TIMEZONE:America/New_York
BEGIN:VTIMEZONE
TZID:America/New_York
BEGIN:STANDARD
TZNAME:EST
DTSTART:20181104T020000
TZOFFSETFROM:-0400
TZOFFSETTO:-0500
RDATE:20191103T020000
END:STANDARD
BEGIN:DAYLIGHT
TZNAME:EDT
DTSTART:20180311T020000
TZOFFSETFROM:-0500
TZOFFSETTO:-0400
RDATE:20190310T020000
RDATE:20200308T020000
END:DAYLIGHT
END:VTIMEZONE
BEGIN:VEVENT
UID:14d5fa3f-a657-48ac-8bae-126182e5d18a
DTSTAMP:20260422T193634Z
DESCRIPTION:The Licking County Soil and Water Conservation District will ho
 ld the monthly District Board Meeting.  \n\nThe public is welcome to atten
 d monthly Board meetings and serve on committees.  Contact Soil & Water at
  740-670-5330 for additional information.  \n
DTSTART;TZID=America/New_York:20190220T163000
DTEND;TZID=America/New_York:20190220T180000
LOCATION:Ag Services Center
SUMMARY:Soil & Water Monthly Board Meeting
END:VEVENT
END:VCALENDAR
