BEGIN:VCALENDAR
VERSION:2.0
PRODID:-//lickingswcd.com//NONSGML kigkonsult.se iCalcreator 2.30.10//
CALSCALE:GREGORIAN
METHOD:PUBLISH
UID:97b63cf3-25f9-495f-9c83-78f1532148b2
X-WR-CALDESC:The Ohio Soil and Water Conservation Commission is a seven-mem
 ber commission\; which ensures Ohio counties are served by effectively adm
 inistered and adequately supported soil and water conservation districts.
 \n\nThe meeting is open to the public.
X-WR-RELCALID:2da419bd1a4b138fcf090f8f20878c42
X-WR-TIMEZONE:America/New_York
BEGIN:VTIMEZONE
TZID:America/New_York
BEGIN:STANDARD
TZNAME:EST
DTSTART:20181104T020000
TZOFFSETFROM:-0400
TZOFFSETTO:-0500
RDATE:20191103T020000
END:STANDARD
BEGIN:DAYLIGHT
TZNAME:EDT
DTSTART:20180311T020000
TZOFFSETFROM:-0500
TZOFFSETTO:-0400
RDATE:20190310T020000
RDATE:20200308T020000
END:DAYLIGHT
END:VTIMEZONE
BEGIN:VEVENT
UID:02e625b1-ccbd-4fd5-93a5-218289d620d3
DTSTAMP:20260422T195449Z
DESCRIPTION:The Ohio Soil and Water Conservation Commission is a seven-memb
 er commission\; which ensures Ohio counties are served by effectively admi
 nistered and adequately supported soil and water conservation districts.\n
 \nThe meeting is open to the public.
DTSTART;TZID=America/New_York:20190226T133000
DTEND;TZID=America/New_York:20190226T160000
LOCATION:Renaissance Columbus Downtown Hotel
SUMMARY:Ohio Soil & Water Conservation Commission Meeting
END:VEVENT
END:VCALENDAR
