BEGIN:VCALENDAR
VERSION:2.0
PRODID:-//lickingswcd.com//NONSGML kigkonsult.se iCalcreator 2.30.10//
CALSCALE:GREGORIAN
METHOD:PUBLISH
UID:adb0419c-2ff3-4685-8b91-980b4fe93903
X-WR-CALDESC:Join us for our annual Farmer's Share Breakfast- at a new loca
 tion! We will be serving sausage\, pancakes and made-to-order omelets for 
 the cost of a donation to Licking County 4-H Camp. You will be served by l
 ocal elected officials and we will have a 1/64 farm scene contest for all 
 ages.
X-WR-RELCALID:2f92365d88c7ba662bd681dce96226dc
X-WR-TIMEZONE:America/New_York
BEGIN:VTIMEZONE
TZID:America/New_York
BEGIN:STANDARD
TZNAME:EST
DTSTART:20181104T020000
TZOFFSETFROM:-0400
TZOFFSETTO:-0500
RDATE:20191103T020000
END:STANDARD
BEGIN:DAYLIGHT
TZNAME:EDT
DTSTART:20180311T020000
TZOFFSETFROM:-0500
TZOFFSETTO:-0400
RDATE:20190310T020000
RDATE:20200308T020000
END:DAYLIGHT
END:VTIMEZONE
BEGIN:VEVENT
UID:45ad7ebb-acd3-4c05-bc70-be8f370315ba
DTSTAMP:20260422T230545Z
DESCRIPTION:Join us for our annual Farmer's Share Breakfast- at a new locat
 ion! We will be serving sausage\, pancakes and made-to-order omelets for t
 he cost of a donation to Licking County 4-H Camp. You will be served by lo
 cal elected officials and we will have a 1/64 farm scene contest for all a
 ges.
DTSTART;TZID=America/New_York:20190302T070000
DTEND;TZID=America/New_York:20190302T100000
LOCATION:C-TEC 150 Price Rd\, Newark\, OH 43055
SUMMARY:LCSWCD @ Farmer Share Breakfast
END:VEVENT
END:VCALENDAR
