BEGIN:VCALENDAR
VERSION:2.0
PRODID:-//lickingswcd.com//NONSGML kigkonsult.se iCalcreator 2.30.10//
CALSCALE:GREGORIAN
METHOD:PUBLISH
UID:1e0dd754-7ea9-4421-8e4c-fdc89bc96066
X-WR-CALDESC:The Licking County Soil and Water Conservation District will h
 old the monthly District Board Meeting.  \n\nThe public is welcome to atte
 nd monthly Board meetings and serve on committees.  Contact Soil & Water a
 t 740-670-5330 for additional information.  \n
X-WR-RELCALID:3c1c7990cd1216c7a76904fb9f4f7657
X-WR-TIMEZONE:America/New_York
BEGIN:VTIMEZONE
TZID:America/New_York
BEGIN:STANDARD
TZNAME:EST
DTSTART:20181104T020000
TZOFFSETFROM:-0400
TZOFFSETTO:-0500
RDATE:20191103T020000
END:STANDARD
BEGIN:DAYLIGHT
TZNAME:EDT
DTSTART:20190310T020000
TZOFFSETFROM:-0500
TZOFFSETTO:-0400
RDATE:20200308T020000
END:DAYLIGHT
END:VTIMEZONE
BEGIN:VEVENT
UID:a60f5226-0138-41c7-b760-cbed4c58434f
DTSTAMP:20260422T213704Z
DESCRIPTION:The Licking County Soil and Water Conservation District will ho
 ld the monthly District Board Meeting.  \n\nThe public is welcome to atten
 d monthly Board meetings and serve on committees.  Contact Soil & Water at
  740-670-5330 for additional information.  \n
DTSTART;TZID=America/New_York:20190313T163000
DTEND;TZID=America/New_York:20190313T180000
LOCATION:Ag Services Center
SUMMARY:Soil & Water Monthly Board Meeting
END:VEVENT
END:VCALENDAR
